BEGIN:VCALENDAR
PRODID:-//kirchenweb.ch gmbh//veranstaltungsausgabe v2.0//DE
VERSION:2.0
METHOD:PUBLISH
BEGIN:VEVENT
DTSTART:20250914T080000Z
DTEND:20250914T090000Z
LOCATION:Kirche Zihlschlacht\, Kirchstrasse\, 8588 Zihlschlacht
TRANSP:OPAQUE
SEQUENCE:0
UID:34373-veranstaltung@kirchgemeinde.ch
DTSTAMP:20250903T203455Z
DESCRIPTION:\n\nKontakt: Pfarrer Peter Keller\, Birwinken\n\nWeitere
  Infos: https://www.kirchgemeinde.ch/veranstaltung/34373
SUMMARY:Gottesdienst
PRIORITY:5
X-MICROSOFT-CDO-IMPORTANCE:1
CLASS:PUBLIC
END:VEVENT
END:VCALENDAR
