BEGIN:VCALENDAR
PRODID:-//kirchenweb.ch gmbh//veranstaltungsausgabe v2.0//DE
VERSION:2.0
METHOD:PUBLISH
BEGIN:VEVENT
DTSTART:20251221T160000Z
DTEND:20251221T170000Z
LOCATION:Kirche Zihlschlacht\, Kirchstrasse\, 8588 Zihlschlacht
TRANSP:OPAQUE
SEQUENCE:0
UID:34380-veranstaltung@kirchgemeinde.ch
DTSTAMP:20251127T074827Z
DESCRIPTION:Mit Weihnachtsspiel zur Weihnachtsgeschichte aus der Bibel und
  passenden Liedern\, 28 mitwirkenden Kindern und Teenagern\, Team und
  Pfrn. Regine Hug\, anschliessend Kuchen-Apéro und Punsch \n\nKontakt:
  Pfarrerin Regine Hug\n\nWeitere Infos:
  https://www.kirchgemeinde.ch/veranstaltung/34380
SUMMARY:Familien-Weihnachts-Gottesdienst
PRIORITY:5
X-MICROSOFT-CDO-IMPORTANCE:1
CLASS:PUBLIC
END:VEVENT
END:VCALENDAR
