BEGIN:VCALENDAR
PRODID:-//kirchenweb.ch gmbh//veranstaltungsausgabe v2.0//DE
VERSION:2.0
METHOD:PUBLISH
BEGIN:VEVENT
DTSTART:20250713T080000Z
DTEND:20250713T090000Z
LOCATION:Kirche Sitterdorf\, Amriswilerstrasse\, 8589 Sitterdorf
TRANSP:OPAQUE
SEQUENCE:0
UID:34396-veranstaltung@kirchgemeinde.ch
DTSTAMP:20250630T163114Z
DESCRIPTION:Thema: „Gibt es mehr?“\, mit Rückblick aufs Konflager\,
  Taufe von Jaro Anton Wolf\n\nKontakt: Pfarrer Johannes Hug\n\nWeitere
  Infos: https://www.kirchgemeinde.ch/veranstaltung/34396
SUMMARY:Rückenwind-Gottesdienst
PRIORITY:5
X-MICROSOFT-CDO-IMPORTANCE:1
CLASS:PUBLIC
END:VEVENT
END:VCALENDAR
