BEGIN:VCALENDAR
PRODID:-//kirchenweb.ch gmbh//veranstaltungsausgabe v2.0//DE
VERSION:2.0
METHOD:PUBLISH
BEGIN:VEVENT
DTSTART:20250514T040000Z
DTEND:20250514T050000Z
LOCATION:Kirchgemeindehaus Sitterdorf\, Ebnetweg\, 8589 Sitterdorf
TRANSP:OPAQUE
SEQUENCE:0
UID:34802-veranstaltung@kirchgemeinde.ch
DTSTAMP:20250107T101759Z
DESCRIPTION:Kontakt: Pfarrehepaar Regine und Johannes Hug\n\nWeitere
  Infos: https://www.kirchgemeinde.ch/veranstaltung/34802
SUMMARY:Gemeindegebet
PRIORITY:5
X-MICROSOFT-CDO-IMPORTANCE:1
CLASS:PUBLIC
END:VEVENT
END:VCALENDAR
