BEGIN:VCALENDAR
PRODID:-//kirchenweb.ch gmbh//veranstaltungsausgabe v2.0//DE
VERSION:2.0
METHOD:PUBLISH
BEGIN:VEVENT
DTSTART:20250904T073000Z
DTEND:20250904T083000Z
LOCATION:Kirchgemeindehaus Sitterdorf\, Ebnetweg\, 8589 Sitterdorf
TRANSP:OPAQUE
SEQUENCE:0
UID:35306-veranstaltung@kirchgemeinde.ch
DTSTAMP:20250626T115554Z
DESCRIPTION:Kontakt: Pfarrehepaar Regine und Johannes Hug\n\nWeitere
  Infos: https://www.kirchgemeinde.ch/veranstaltung/35306
SUMMARY:60plus Bibelkreis
PRIORITY:5
X-MICROSOFT-CDO-IMPORTANCE:1
CLASS:PUBLIC
END:VEVENT
END:VCALENDAR
