BEGIN:VCALENDAR
PRODID:-//kirchenweb.ch gmbh//veranstaltungsausgabe v2.0//DE
VERSION:2.0
METHOD:PUBLISH
BEGIN:VEVENT
DTSTART:20251115T130000Z
DTEND:20251115T160000Z
LOCATION:Kirchgemeindehaus Sitterdorf\, Ebnetweg\, 8589 Sitterdorf
TRANSP:OPAQUE
SEQUENCE:0
UID:35376-veranstaltung@kirchgemeinde.ch
DTSTAMP:20250707T172404Z
DESCRIPTION:Weitere Infos und das Programm der Jungschar finden Sie unter
 \nhttp://www.evangsitterdorf.ch/sitterdorf-jungschar\n\nKontakt: Florian
  Eggenberger\n\nWeitere Infos:
  https://www.kirchgemeinde.ch/veranstaltung/35376
SUMMARY:Jungschar
PRIORITY:5
X-MICROSOFT-CDO-IMPORTANCE:1
CLASS:PUBLIC
END:VEVENT
END:VCALENDAR
