BEGIN:VCALENDAR
PRODID:-//kirchenweb.ch gmbh//veranstaltungsausgabe v2.0//DE
VERSION:2.0
METHOD:PUBLISH
BEGIN:VEVENT
DTSTART:20250903T150000Z
DTEND:20250903T183000Z
LOCATION:Kirchgemeindehaus Sitterdorf\, Ebnetweg\, 8589 Sitterdorf
TRANSP:OPAQUE
SEQUENCE:0
UID:35385-veranstaltung@kirchgemeinde.ch
DTSTAMP:20250710T080320Z
DESCRIPTION:Kontakt: Johannes Hug\n\nWeitere Infos:
  https://www.kirchgemeinde.ch/veranstaltung/35385
SUMMARY:Konfirmandenunterricht
PRIORITY:5
X-MICROSOFT-CDO-IMPORTANCE:1
CLASS:PUBLIC
END:VEVENT
END:VCALENDAR
