BEGIN:VCALENDAR
PRODID:-//kirchenweb.ch gmbh//veranstaltungsausgabe v2.0//DE
VERSION:2.0
METHOD:PUBLISH
BEGIN:VEVENT
DTSTART:20260219T123000Z
DTEND:20260219T153000Z
LOCATION:Kirchgemeindehaus Sitterdorf\, Ebnetweg 8\, 8589 Sitterdorf
TRANSP:OPAQUE
SEQUENCE:0
UID:35531-veranstaltung@kirchgemeinde.ch
DTSTAMP:20250911T063532Z
DESCRIPTION:Kontakt: Christa Ackermann\n\nWeitere Infos:
  https://www.kirchgemeinde.ch/veranstaltung/35531
SUMMARY:Ökumenischer Spiel- und Jassnachmittag
PRIORITY:5
X-MICROSOFT-CDO-IMPORTANCE:1
CLASS:PUBLIC
END:VEVENT
END:VCALENDAR
