BEGIN:VCALENDAR
PRODID:-//kirchenweb.ch gmbh//veranstaltungsausgabe v2.0//DE
VERSION:2.0
METHOD:PUBLISH
BEGIN:VEVENT
DTSTART:20260212T131500Z
DTEND:20260212T141500Z
LOCATION:Kirchgemeindehaus Sitterdorf\, Ebnetweg 8\, 8589 Sitterdorf
TRANSP:OPAQUE
SEQUENCE:0
UID:35537-veranstaltung@kirchgemeinde.ch
DTSTAMP:20251003T183517Z
DESCRIPTION:«Froh zu sein\, bedarf es wenig» Musikalischer Erzählanlass
  zum Thema Glück.  \nMärchenhafte Geschichten\, sinnliche Lieder\,
  bezaubernde Panflötenmusik. \nMit Ekumu und Jmerio (Jmerio Pianari und
  Doris Münch).  \n\nKontakt: Pfarrehepaar Regine und Johannes Hug\n
 \nWeitere Infos: https://www.kirchgemeinde.ch/veranstaltung/35537
SUMMARY:Ökumenischer 60plus Nachmittag
PRIORITY:5
X-MICROSOFT-CDO-IMPORTANCE:1
CLASS:PUBLIC
END:VEVENT
END:VCALENDAR
