BEGIN:VCALENDAR
PRODID:-//kirchenweb.ch gmbh//veranstaltungsausgabe v2.0//DE
VERSION:2.0
METHOD:PUBLISH
BEGIN:VEVENT
DTSTART:20260215T090000Z
DTEND:20260215T120000Z
LOCATION:Kirchgemeindehaus Sitterdorf\, Ebnetweg\, 8589 Sitterdorf
TRANSP:OPAQUE
SEQUENCE:0
UID:35747-veranstaltung@kirchgemeinde.ch
DTSTAMP:20260201T184600Z
DESCRIPTION:Thema «Kraftpakete für Adler» (Jesja 40\,31) und eine
  spannende Geschichte aus der Bibel\, in der Gott seinem erschöpften\,
  kraftlosen Mitarbeiter und Prophet neu begegnet. \n\nKontakt:
  Pfarrehepaar Regine und Johannes Hug\n\nWeitere Infos:
  https://www.kirchgemeinde.ch/veranstaltung/35747
SUMMARY:Kirche wunderbar
PRIORITY:5
X-MICROSOFT-CDO-IMPORTANCE:1
CLASS:PUBLIC
END:VEVENT
END:VCALENDAR
