BEGIN:VCALENDAR
PRODID:-//kirchenweb.ch gmbh//veranstaltungsausgabe v2.0//DE
VERSION:2.0
METHOD:PUBLISH
BEGIN:VEVENT
DTSTART:20260426T080000Z
DTEND:20260426T103000Z
LOCATION:Kirchgemeindehaus Sitterdorf\, Ebnetweg\, 8589 Sitterdorf
TRANSP:OPAQUE
SEQUENCE:0
UID:35748-veranstaltung@kirchgemeinde.ch
DTSTAMP:20260419T070432Z
DESCRIPTION:Thema: «Kommt und esst!» Es geht um die Begegnung des
  auferstandenen Jesus mit seinen Jüngern nach Johannes 21\,1-14.\nMit
  Begrüssungs-Znüni\, kreativen und spielerischen Posten\,
  famillienfreundlichem Gottesdienst\, Mittagessen und Idee für Daheim. \n
 \n\nKontakt: Pfarrehepaar Regine und Johannes Hug\n\nWeitere Infos:
  https://www.kirchgemeinde.ch/veranstaltung/35748
SUMMARY:Kirche wunderbar
PRIORITY:5
X-MICROSOFT-CDO-IMPORTANCE:1
CLASS:PUBLIC
END:VEVENT
END:VCALENDAR
