BEGIN:VCALENDAR
PRODID:-//kirchenweb.ch gmbh//veranstaltungsausgabe v2.0//DE
VERSION:2.0
METHOD:PUBLISH
BEGIN:VEVENT
DTSTART:20261115T090000Z
DTEND:20261115T113000Z
LOCATION:Kirchgemeindehaus Sitterdorf\, Ebnetweg\, 8589 Sitterdorf
TRANSP:OPAQUE
SEQUENCE:0
UID:35749-veranstaltung@kirchgemeinde.ch
DTSTAMP:20251004T190340Z
DESCRIPTION:Die «Kirche wunderbar» ist eine neue Form von Kirche\, wo
  Kinder und Erwachsene den christlichen Glauben gemeinsam entdecken und
  erleben: \nFröhlich\, kreativ\, christuszentriert\,
  generationenübergreifend\, wunderbar. \n\n\nKontakt: Pfarrehepaar Regine
  und Johannes Hug\n\nWeitere Infos:
  https://www.kirchgemeinde.ch/veranstaltung/35749
SUMMARY:Kirche wunderbar
PRIORITY:5
X-MICROSOFT-CDO-IMPORTANCE:1
CLASS:PUBLIC
END:VEVENT
END:VCALENDAR
