BEGIN:VCALENDAR
PRODID:-//kirchenweb.ch gmbh//veranstaltungsausgabe v2.0//DE
VERSION:2.0
METHOD:PUBLISH
BEGIN:VEVENT
DTSTART:20260830T080000Z
DTEND:20260830T103000Z
LOCATION:Kath. Pfarreizentrum\, \, 8589 Sitterdorf
TRANSP:OPAQUE
SEQUENCE:0
UID:35751-veranstaltung@kirchgemeinde.ch
DTSTAMP:20251004T190438Z
DESCRIPTION:Die «Kirche wunderbar» ist eine neue Form von Kirche\, wo
  Kinder und Erwachsene den christlichen Glauben gemeinsam entdecken und
  erleben: \nFröhlich\, kreativ\, christuszentriert\,
  generationenübergreifend\, wunderbar. \n\n\nKontakt: Franziska Heeb\,
  Bischofszell\n\nWeitere Infos:
  https://www.kirchgemeinde.ch/veranstaltung/35751
SUMMARY:Kirche wunderbar
PRIORITY:5
X-MICROSOFT-CDO-IMPORTANCE:1
CLASS:PUBLIC
END:VEVENT
END:VCALENDAR
