BEGIN:VCALENDAR
PRODID:-//kirchenweb.ch gmbh//veranstaltungsausgabe v2.0//DE
VERSION:2.0
METHOD:PUBLISH
BEGIN:VEVENT
DTSTART:20260215T090000Z
DTEND:20260215T100000Z
LOCATION:Kirche Zihlschlacht\, Kirchstrasse\, 8588 Zihlschlacht
TRANSP:OPAQUE
SEQUENCE:0
UID:35756-veranstaltung@kirchgemeinde.ch
DTSTAMP:20260202T162557Z
DESCRIPTION:Predigt über Jesaja 66\, 1ff (speziell Vers 5)\nThema: "Der
  tröstende Gott"\n\n\nKontakt: Diakon Daniel Aebersold\, Bischofszell\n
 \nWeitere Infos: https://www.kirchgemeinde.ch/veranstaltung/35756
SUMMARY:Gottesdienst
PRIORITY:5
X-MICROSOFT-CDO-IMPORTANCE:1
CLASS:PUBLIC
END:VEVENT
END:VCALENDAR
