BEGIN:VCALENDAR
PRODID:-//kirchenweb.ch gmbh//veranstaltungsausgabe v2.0//DE
VERSION:2.0
METHOD:PUBLISH
BEGIN:VEVENT
DTSTART;VALUE=DATE:20260503
DTEND;VALUE=DATE:20260504
LOCATION:Pentorama Amriswil\, \,
TRANSP:OPAQUE
SEQUENCE:0
UID:35809-veranstaltung@kirchgemeinde.ch
DTSTAMP:20260419T074230Z
DESCRIPTION:kein Gottesdienst in Sitterdorf und Zihlschlacht\n\nKontakt:
  kg.sitterdorf@kirchgemeinde.ch\n\nWeitere Infos:
  https://www.kirchgemeinde.ch/veranstaltung/35809
SUMMARY:Generationen-Gottesdienst
PRIORITY:5
X-MICROSOFT-CDO-IMPORTANCE:1
CLASS:PUBLIC
END:VEVENT
END:VCALENDAR
