BEGIN:VCALENDAR
PRODID:-//kirchenweb.ch gmbh//veranstaltungsausgabe v2.0//DE
VERSION:2.0
METHOD:PUBLISH
BEGIN:VEVENT
DTSTART:20260424T163000Z
DTEND:20260424T173000Z
LOCATION:im Himmelreich der katholischen Stiftsamtei Bischofszell\, \,
TRANSP:OPAQUE
SEQUENCE:0
UID:36106-veranstaltung@kirchgemeinde.ch
DTSTAMP:20251203T181904Z
DESCRIPTION:gemeinsames Kochen & Essen\n\nKontakt: Tabea Stoiz\n\nWeitere
  Infos: https://www.kirchgemeinde.ch/veranstaltung/36106
SUMMARY:Jugendgruppe Gathered Light
PRIORITY:5
X-MICROSOFT-CDO-IMPORTANCE:1
CLASS:PUBLIC
END:VEVENT
END:VCALENDAR
