BEGIN:VCALENDAR
PRODID:-//kirchenweb.ch gmbh//veranstaltungsausgabe v2.0//DE
VERSION:2.0
METHOD:PUBLISH
BEGIN:VEVENT
DTSTART:20260502T120000Z
DTEND:20260502T150000Z
LOCATION:Kirchgemeindehaus Sitterdorf\, Ebnetweg 8\, 8589 Sitterdorf
TRANSP:OPAQUE
SEQUENCE:0
UID:36260-veranstaltung@kirchgemeinde.ch
DTSTAMP:20251230T202507Z
DESCRIPTION:Weitere Infos und das Programm der Jungschar finden Sie unter
 \nhttp://www.evangsitterdorf.ch/sitterdorf-jungschar\n\nKontakt: Ronja
  Müller\n\nWeitere Infos:
  https://www.kirchgemeinde.ch/veranstaltung/36260
SUMMARY:Jungschar
PRIORITY:5
X-MICROSOFT-CDO-IMPORTANCE:1
CLASS:PUBLIC
END:VEVENT
END:VCALENDAR
