BEGIN:VCALENDAR
PRODID:-//kirchenweb.ch gmbh//veranstaltungsausgabe v2.0//DE
VERSION:2.0
METHOD:PUBLISH
BEGIN:VEVENT
DTSTART;VALUE=DATE:20260523
DTEND;VALUE=DATE:20260524
LOCATION:Kirchgemeindehaus Sitterdorf\, Ebnetweg 8\, 8589 Sitterdorf
TRANSP:OPAQUE
SEQUENCE:0
UID:36261-veranstaltung@kirchgemeinde.ch
DTSTAMP:20251230T202718Z
DESCRIPTION:Pfingstlager 23.-24. Mai\nWeitere Infos und das Programm der
  Jungschar finden Sie unter
 \nhttp://www.evangsitterdorf.ch/sitterdorf-jungschar\n\nKontakt: Ronja
  Müller\n\nWeitere Infos:
  https://www.kirchgemeinde.ch/veranstaltung/36261
SUMMARY:Jungschar / Pfingstlager
PRIORITY:5
X-MICROSOFT-CDO-IMPORTANCE:1
CLASS:PUBLIC
END:VEVENT
END:VCALENDAR
