BEGIN:VCALENDAR
PRODID:-//kirchenweb.ch gmbh//veranstaltungsausgabe v2.0//DE
VERSION:2.0
METHOD:PUBLISH
BEGIN:VEVENT
DTSTART:20260613T120000Z
DTEND:20260613T150000Z
LOCATION:Kirchgemeindehaus Sitterdorf\, Ebnetweg 8\, 8589 Sitterdorf
TRANSP:OPAQUE
SEQUENCE:0
UID:36262-veranstaltung@kirchgemeinde.ch
DTSTAMP:20251230T202508Z
DESCRIPTION:Weitere Infos und das Programm der Jungschar finden Sie unter
 \nhttp://www.evangsitterdorf.ch/sitterdorf-jungschar\n\nKontakt: Ronja
  Müller\n\nWeitere Infos:
  https://www.kirchgemeinde.ch/veranstaltung/36262
SUMMARY:Jungschar
PRIORITY:5
X-MICROSOFT-CDO-IMPORTANCE:1
CLASS:PUBLIC
END:VEVENT
END:VCALENDAR
