BEGIN:VCALENDAR
PRODID:-//kirchenweb.ch gmbh//veranstaltungsausgabe v2.0//DE
VERSION:2.0
METHOD:PUBLISH
BEGIN:VEVENT
DTSTART;VALUE=DATE:20260713
DTEND;VALUE=DATE:20260714
LOCATION:Kirchgemeindehaus Sitterdorf\, Ebnetweg 8\, 8589 Sitterdorf
TRANSP:OPAQUE
SEQUENCE:0
UID:36264-veranstaltung@kirchgemeinde.ch
DTSTAMP:20251230T202830Z
DESCRIPTION:Sommerlager 13.-17. Juli\nWeitere Infos und das Programm der
  Jungschar finden Sie unter
 \nhttp://www.evangsitterdorf.ch/sitterdorf-jungschar\n\nKontakt: Ronja
  Müller\n\nWeitere Infos:
  https://www.kirchgemeinde.ch/veranstaltung/36264
SUMMARY:Jungschar / Sommerlager
PRIORITY:5
X-MICROSOFT-CDO-IMPORTANCE:1
CLASS:PUBLIC
END:VEVENT
END:VCALENDAR
