BEGIN:VCALENDAR
PRODID:-//kirchenweb.ch gmbh//veranstaltungsausgabe v2.0//DE
VERSION:2.0
METHOD:PUBLISH
BEGIN:VEVENT
DTSTART:20260424T071500Z
DTEND:20260424T083000Z
LOCATION:Kirchgemeindehaus Sitterdorf\, Ebnetweg \, 8589 Sitterdorf
TRANSP:OPAQUE
SEQUENCE:0
UID:36293-veranstaltung@kirchgemeinde.ch
DTSTAMP:20260113T182853Z
DESCRIPTION:Kontakt: Regula Ehrbar\n\n\nWeitere Infos:
  https://www.kirchgemeinde.ch/veranstaltung/36293
SUMMARY:Frauengruppe Mittendrin
PRIORITY:5
X-MICROSOFT-CDO-IMPORTANCE:1
CLASS:PUBLIC
END:VEVENT
END:VCALENDAR
