BEGIN:VCALENDAR
PRODID:-//kirchenweb.ch gmbh//veranstaltungsausgabe v2.0//DE
VERSION:2.0
METHOD:PUBLISH
BEGIN:VEVENT
DTSTART:20261120T081500Z
DTEND:20261120T093000Z
LOCATION:Kirchgemeindehaus Sitterdorf\, Ebnetweg \, 8589 Sitterdorf
TRANSP:OPAQUE
SEQUENCE:0
UID:36304-veranstaltung@kirchgemeinde.ch
DTSTAMP:20260113T182856Z
DESCRIPTION:Kontakt: Regula Ehrbar\n\n\nWeitere Infos:
  https://www.kirchgemeinde.ch/veranstaltung/36304
SUMMARY:Frauengruppe Mittendrin
PRIORITY:5
X-MICROSOFT-CDO-IMPORTANCE:1
CLASS:PUBLIC
END:VEVENT
END:VCALENDAR
