BEGIN:VCALENDAR
PRODID:-//kirchenweb.ch gmbh//veranstaltungsausgabe v2.0//DE
VERSION:2.0
METHOD:PUBLISH
BEGIN:VEVENT
DTSTART:20260531T075000Z
DTEND:20260531T091000Z
LOCATION:Nebengebäude der Kirche\, Kirchstrasse\, 8588 Zihlschlacht
TRANSP:OPAQUE
SEQUENCE:0
UID:36437-veranstaltung@kirchgemeinde.ch
DTSTAMP:20260325T185328Z
DESCRIPTION:Kontakt: Claudia Huber\n\nWeitere Infos:
  https://www.kirchgemeinde.ch/veranstaltung/36437
SUMMARY:Kindertreff
PRIORITY:5
X-MICROSOFT-CDO-IMPORTANCE:1
CLASS:PUBLIC
END:VEVENT
END:VCALENDAR
