BEGIN:VCALENDAR
PRODID:-//kirchenweb.ch gmbh//veranstaltungsausgabe v2.0//DE
VERSION:2.0
METHOD:PUBLISH
BEGIN:VEVENT
DTSTART;VALUE=DATE:20260501
DTEND;VALUE=DATE:20260502
LOCATION:Pentorama Amriswil\, \,
TRANSP:OPAQUE
SEQUENCE:0
UID:36447-veranstaltung@kirchgemeinde.ch
DTSTAMP:20260409T074226Z
DESCRIPTION:01.- 03. Mai Godi-Conference im Pentorama Amriswil\n\nKontakt:
  Tabea Stoiz\n\nWeitere Infos:
  https://www.kirchgemeinde.ch/veranstaltung/36447
SUMMARY:Jugendgruppe Gathered Light
PRIORITY:5
X-MICROSOFT-CDO-IMPORTANCE:1
CLASS:PUBLIC
END:VEVENT
END:VCALENDAR
